BEGIN:VCALENDAR
VERSION:2.0
PRODID:-//wp-events-plugin.com//6.4.7.1//EN
TZID:America/Los_Angeles
X-WR-TIMEZONE:America/Los_Angeles
BEGIN:VEVENT
UID:9@hollywoodchamberorchestra.com
DTSTART;TZID=America/Los_Angeles:20170527T200000
DTEND;TZID=America/Los_Angeles:20170527T200000
DTSTAMP:20170424T182123Z
URL:https://hollywoodchamberorchestra.com/events/world-premieres-year-two/
SUMMARY:World Premieres: Year Two
DESCRIPTION:Hollywood Chamber Orchestra Music Directors Noah Gladstone and 
 Mark Robertson are pleased to announce their second concert of new music\,
  entitled "World Premieres: Year Two\," on Saturday\, May 27 at 8pm at The
  Montalbán.\n\nComposers to include:\n\nAlbert Chang\nChristopher North\n
 Elisa Rice\nCharles Sydnor\nAshoka Thiagarajan\nPinar Toprak\nGenevieve Vi
 ncent\n\nGuest conductors to include Sharon Lavery and Anthony Parnther.\n
 \n Buy Tickets  Facebook  The Montalban Theatre
ATTACH;FMTTYPE=image/jpeg:https://hollywoodchamberorchestra.com/wp-content
 /uploads/2017/04/event-premieres-year2b.jpg
LOCATION:Montalban Theater\, 1615 Vine St\, Los Angeles\, CA\, 90028\, Unit
 ed States
GEO:34.100279;-118.32712500000002
X-APPLE-STRUCTURED-LOCATION;VALUE=URI;X-ADDRESS=1615 Vine St\, Los Angeles\
 , CA\, 90028\, United States;X-APPLE-RADIUS=100;X-TITLE=Montalban Theater:
 geo:34.100279,-118.32712500000002
END:VEVENT
BEGIN:VTIMEZONE
TZID:America/Los_Angeles
X-LIC-LOCATION:America/Los_Angeles
BEGIN:DAYLIGHT
DTSTART:20170312T030000
TZOFFSETFROM:-0800
TZOFFSETTO:-0700
TZNAME:PDT
END:DAYLIGHT
END:VTIMEZONE
END:VCALENDAR